BEGIN:VCALENDAR
VERSION:2.0
PRODID:-//YouCubed - ECPv6.15.20//NONSGML v1.0//EN
CALSCALE:GREGORIAN
METHOD:PUBLISH
X-WR-CALNAME:YouCubed
X-ORIGINAL-URL:https://www.youcubed.org
X-WR-CALDESC:Events for YouCubed
REFRESH-INTERVAL;VALUE=DURATION:PT1H
X-Robots-Tag:noindex
X-PUBLISHED-TTL:PT1H
BEGIN:VTIMEZONE
TZID:America/Los_Angeles
BEGIN:DAYLIGHT
TZOFFSETFROM:-0800
TZOFFSETTO:-0700
TZNAME:PDT
DTSTART:20160313T100000
END:DAYLIGHT
BEGIN:STANDARD
TZOFFSETFROM:-0700
TZOFFSETTO:-0800
TZNAME:PST
DTSTART:20161106T090000
END:STANDARD
BEGIN:DAYLIGHT
TZOFFSETFROM:-0800
TZOFFSETTO:-0700
TZNAME:PDT
DTSTART:20170312T100000
END:DAYLIGHT
BEGIN:STANDARD
TZOFFSETFROM:-0700
TZOFFSETTO:-0800
TZNAME:PST
DTSTART:20171105T090000
END:STANDARD
BEGIN:DAYLIGHT
TZOFFSETFROM:-0800
TZOFFSETTO:-0700
TZNAME:PDT
DTSTART:20180311T100000
END:DAYLIGHT
BEGIN:STANDARD
TZOFFSETFROM:-0700
TZOFFSETTO:-0800
TZNAME:PST
DTSTART:20181104T090000
END:STANDARD
END:VTIMEZONE
BEGIN:VEVENT
DTSTART;VALUE=DATE:20171019
DTEND;VALUE=DATE:20171021
DTSTAMP:20260419T073706
CREATED:20171019T070000Z
LAST-MODIFIED:20190524T231821Z
UID:2036-1508371200-1508543999@www.youcubed.org
SUMMARY:Nueva Innovative Learning Conference
DESCRIPTION:
URL:https://www.youcubed.org/event/nueva-innovative-learning-conference/
LOCATION:In Person @ Hillsborough\, CA
END:VEVENT
BEGIN:VEVENT
DTSTART;VALUE=DATE:20171027
DTEND;VALUE=DATE:20171029
DTSTAMP:20260419T073706
CREATED:20171027T070000Z
LAST-MODIFIED:20190524T231818Z
UID:2038-1509062400-1509235199@www.youcubed.org
SUMMARY:58th CMC-South Annual Mathematics Conference
DESCRIPTION:Jo Boaler and Cathy Williams are featured speakers.
URL:https://www.youcubed.org/event/mathematical-mindset-presentation-cmc-south/
LOCATION:In Person @ Palm Springs\, CA\, Palm Springs\, CA\, United States
END:VEVENT
END:VCALENDAR