BEGIN:VCALENDAR
VERSION:2.0
PRODID:-//YouCubed - ECPv6.15.20//NONSGML v1.0//EN
CALSCALE:GREGORIAN
METHOD:PUBLISH
X-ORIGINAL-URL:https://www.youcubed.org
X-WR-CALDESC:Events for YouCubed
REFRESH-INTERVAL;VALUE=DURATION:PT1H
X-Robots-Tag:noindex
X-PUBLISHED-TTL:PT1H
BEGIN:VTIMEZONE
TZID:America/Los_Angeles
BEGIN:DAYLIGHT
TZOFFSETFROM:-0800
TZOFFSETTO:-0700
TZNAME:PDT
DTSTART:20160313T100000
END:DAYLIGHT
BEGIN:STANDARD
TZOFFSETFROM:-0700
TZOFFSETTO:-0800
TZNAME:PST
DTSTART:20161106T090000
END:STANDARD
BEGIN:DAYLIGHT
TZOFFSETFROM:-0800
TZOFFSETTO:-0700
TZNAME:PDT
DTSTART:20170312T100000
END:DAYLIGHT
BEGIN:STANDARD
TZOFFSETFROM:-0700
TZOFFSETTO:-0800
TZNAME:PST
DTSTART:20171105T090000
END:STANDARD
BEGIN:DAYLIGHT
TZOFFSETFROM:-0800
TZOFFSETTO:-0700
TZNAME:PDT
DTSTART:20180311T100000
END:DAYLIGHT
BEGIN:STANDARD
TZOFFSETFROM:-0700
TZOFFSETTO:-0800
TZNAME:PST
DTSTART:20181104T090000
END:STANDARD
END:VTIMEZONE
BEGIN:VEVENT
DTSTART;TZID=America/Los_Angeles:20171116T160000
DTEND;TZID=America/Los_Angeles:20171116T173000
DTSTAMP:20260421T025612
CREATED:20171117T000000Z
LAST-MODIFIED:20190524T231756Z
UID:112301-1510848000-1510853400@www.youcubed.org
SUMMARY:Skokie School (meet and greet & presentation for local educators)
DESCRIPTION:Presentation for local educators at Skokie School. No RSVP required\, free and open to the public
URL:https://www.youcubed.org/event/evening-keynote/
LOCATION:In Person @ Winnetka\, IL\, 520 Glendale Ave\, Winnetka\, IL\, 60093\, United States
END:VEVENT
BEGIN:VEVENT
DTSTART;TZID=America/Los_Angeles:20171116T190000
DTEND;TZID=America/Los_Angeles:20171116T203000
DTSTAMP:20260421T025612
CREATED:20171117T030000Z
LAST-MODIFIED:20190524T231703Z
UID:112298-1510858800-1510864200@www.youcubed.org
SUMMARY:North Shore Country Day School meet and greet w/ admins & presentation for general public
DESCRIPTION:No RSVP required\, free and open to the public.
URL:https://www.youcubed.org/event/wolcott-high-school-professional-development-session/
LOCATION:In Person @ Winnetka\, IL\, 310 Green Bay Road\, Winnetka\, IL\, 60093\, United States
END:VEVENT
END:VCALENDAR